BEGIN:VCALENDAR
VERSION:2.0
PRODID:-//Okanagan Family Fun - ECPv6.15.18//NONSGML v1.0//EN
CALSCALE:GREGORIAN
METHOD:PUBLISH
X-WR-CALNAME:Okanagan Family Fun
X-ORIGINAL-URL:https://okanaganfamilyfun.com
X-WR-CALDESC:Events for Okanagan Family Fun
REFRESH-INTERVAL;VALUE=DURATION:PT1H
X-Robots-Tag:noindex
X-PUBLISHED-TTL:PT1H
BEGIN:VTIMEZONE
TZID:America/Vancouver
BEGIN:DAYLIGHT
TZOFFSETFROM:-0800
TZOFFSETTO:-0700
TZNAME:PDT
DTSTART:20250309T100000
END:DAYLIGHT
BEGIN:STANDARD
TZOFFSETFROM:-0700
TZOFFSETTO:-0800
TZNAME:PST
DTSTART:20251102T090000
END:STANDARD
BEGIN:DAYLIGHT
TZOFFSETFROM:-0800
TZOFFSETTO:-0700
TZNAME:PDT
DTSTART:20260308T100000
END:DAYLIGHT
BEGIN:STANDARD
TZOFFSETFROM:-0700
TZOFFSETTO:-0800
TZNAME:PST
DTSTART:20261101T090000
END:STANDARD
BEGIN:DAYLIGHT
TZOFFSETFROM:-0800
TZOFFSETTO:-0700
TZNAME:PDT
DTSTART:20270314T100000
END:DAYLIGHT
BEGIN:STANDARD
TZOFFSETFROM:-0700
TZOFFSETTO:-0800
TZNAME:PST
DTSTART:20271107T090000
END:STANDARD
END:VTIMEZONE
BEGIN:VEVENT
DTSTART;VALUE=DATE:20260516
DTEND;VALUE=DATE:20260517
DTSTAMP:20260418T172437
CREATED:20260406T211707Z
LAST-MODIFIED:20260406T211707Z
UID:10003625-1778889600-1778975999@okanaganfamilyfun.com
SUMMARY:Pete the Cat - The Musical - Kelowna
DESCRIPTION:Pete the Cat – The Musical. Cool cat Pete keeps his groove no matter what! With his sneakers\, guitar\, and endless optimism\, he paints the world in every shade of awesome. When things get messy\, Pete proves that the best art comes from just going with the flow. Stay cool. Stay colourful. \nMay 16 & 17\, 23 & 24\, 2026 \nAGE RECOMMENDATION\nAll Ages \nSHOW RUNNING TIME\n60 minutes \nSHOW DATES & TIMES\nSaturday\, May 16th at 10:00am\nSaturday\, May 16th at 1:00pm\nSaturday\, May 16th at 4:00pm \nSunday\, May 17th at 10:00am\nSunday\, May 17th at 1:00pm\nSunday\, May 17th at 4:00pm \nSaturday\, May 23rd at 10:00am \nSunday\, May 24th at 10:00am \nLOCATION\nThe Balsam School\n​604 Cawston Ave\, Kelowna\, BC V1Y 6Z4​ \nSINGLE TICKETS\nDynamic Duo: $35.00 = One Adult and One Child\nAdd a Big: $25.00 = One Adult (17yrs and over)\nAdd a Little: $12.50 = One Child (under 16yrs)\n*Ticket fees include GST\nWebsite Back to Events Calendar
URL:https://okanaganfamilyfun.com/event/pete-the-cat-the-musical-kelowna/2026-05-16/
LOCATION:The Balsam School\, ​ 604 Cawston Avenue\, Kelowna\, V1Y 6Z4\, Canada
CATEGORIES:Family-Friendly,Kelowna,West Kelowna
ATTACH;FMTTYPE=image/png:https://okanaganfamilyfun.com/wp-content/uploads/2026/04/Pete-the-Cat-Event-Cal.png
END:VEVENT
BEGIN:VEVENT
DTSTART;VALUE=DATE:20260517
DTEND;VALUE=DATE:20260518
DTSTAMP:20260418T172437
CREATED:20260406T211707Z
LAST-MODIFIED:20260406T211707Z
UID:10003626-1778976000-1779062399@okanaganfamilyfun.com
SUMMARY:Pete the Cat - The Musical - Kelowna
DESCRIPTION:Pete the Cat – The Musical. Cool cat Pete keeps his groove no matter what! With his sneakers\, guitar\, and endless optimism\, he paints the world in every shade of awesome. When things get messy\, Pete proves that the best art comes from just going with the flow. Stay cool. Stay colourful. \nMay 16 & 17\, 23 & 24\, 2026 \nAGE RECOMMENDATION\nAll Ages \nSHOW RUNNING TIME\n60 minutes \nSHOW DATES & TIMES\nSaturday\, May 16th at 10:00am\nSaturday\, May 16th at 1:00pm\nSaturday\, May 16th at 4:00pm \nSunday\, May 17th at 10:00am\nSunday\, May 17th at 1:00pm\nSunday\, May 17th at 4:00pm \nSaturday\, May 23rd at 10:00am \nSunday\, May 24th at 10:00am \nLOCATION\nThe Balsam School\n​604 Cawston Ave\, Kelowna\, BC V1Y 6Z4​ \nSINGLE TICKETS\nDynamic Duo: $35.00 = One Adult and One Child\nAdd a Big: $25.00 = One Adult (17yrs and over)\nAdd a Little: $12.50 = One Child (under 16yrs)\n*Ticket fees include GST\nWebsite Back to Events Calendar
URL:https://okanaganfamilyfun.com/event/pete-the-cat-the-musical-kelowna/2026-05-17/
LOCATION:The Balsam School\, ​ 604 Cawston Avenue\, Kelowna\, V1Y 6Z4\, Canada
CATEGORIES:Family-Friendly,Kelowna,West Kelowna
ATTACH;FMTTYPE=image/png:https://okanaganfamilyfun.com/wp-content/uploads/2026/04/Pete-the-Cat-Event-Cal.png
END:VEVENT
BEGIN:VEVENT
DTSTART;VALUE=DATE:20260523
DTEND;VALUE=DATE:20260524
DTSTAMP:20260418T172437
CREATED:20260406T211707Z
LAST-MODIFIED:20260406T211707Z
UID:10003627-1779494400-1779580799@okanaganfamilyfun.com
SUMMARY:Pete the Cat - The Musical - Kelowna
DESCRIPTION:Pete the Cat – The Musical. Cool cat Pete keeps his groove no matter what! With his sneakers\, guitar\, and endless optimism\, he paints the world in every shade of awesome. When things get messy\, Pete proves that the best art comes from just going with the flow. Stay cool. Stay colourful. \nMay 16 & 17\, 23 & 24\, 2026 \nAGE RECOMMENDATION\nAll Ages \nSHOW RUNNING TIME\n60 minutes \nSHOW DATES & TIMES\nSaturday\, May 16th at 10:00am\nSaturday\, May 16th at 1:00pm\nSaturday\, May 16th at 4:00pm \nSunday\, May 17th at 10:00am\nSunday\, May 17th at 1:00pm\nSunday\, May 17th at 4:00pm \nSaturday\, May 23rd at 10:00am \nSunday\, May 24th at 10:00am \nLOCATION\nThe Balsam School\n​604 Cawston Ave\, Kelowna\, BC V1Y 6Z4​ \nSINGLE TICKETS\nDynamic Duo: $35.00 = One Adult and One Child\nAdd a Big: $25.00 = One Adult (17yrs and over)\nAdd a Little: $12.50 = One Child (under 16yrs)\n*Ticket fees include GST\nWebsite Back to Events Calendar
URL:https://okanaganfamilyfun.com/event/pete-the-cat-the-musical-kelowna/2026-05-23/
LOCATION:The Balsam School\, ​ 604 Cawston Avenue\, Kelowna\, V1Y 6Z4\, Canada
CATEGORIES:Family-Friendly,Kelowna,West Kelowna
ATTACH;FMTTYPE=image/png:https://okanaganfamilyfun.com/wp-content/uploads/2026/04/Pete-the-Cat-Event-Cal.png
END:VEVENT
BEGIN:VEVENT
DTSTART;VALUE=DATE:20260524
DTEND;VALUE=DATE:20260525
DTSTAMP:20260418T172437
CREATED:20260406T211707Z
LAST-MODIFIED:20260406T211707Z
UID:10003628-1779580800-1779667199@okanaganfamilyfun.com
SUMMARY:Pete the Cat - The Musical - Kelowna
DESCRIPTION:Pete the Cat – The Musical. Cool cat Pete keeps his groove no matter what! With his sneakers\, guitar\, and endless optimism\, he paints the world in every shade of awesome. When things get messy\, Pete proves that the best art comes from just going with the flow. Stay cool. Stay colourful. \nMay 16 & 17\, 23 & 24\, 2026 \nAGE RECOMMENDATION\nAll Ages \nSHOW RUNNING TIME\n60 minutes \nSHOW DATES & TIMES\nSaturday\, May 16th at 10:00am\nSaturday\, May 16th at 1:00pm\nSaturday\, May 16th at 4:00pm \nSunday\, May 17th at 10:00am\nSunday\, May 17th at 1:00pm\nSunday\, May 17th at 4:00pm \nSaturday\, May 23rd at 10:00am \nSunday\, May 24th at 10:00am \nLOCATION\nThe Balsam School\n​604 Cawston Ave\, Kelowna\, BC V1Y 6Z4​ \nSINGLE TICKETS\nDynamic Duo: $35.00 = One Adult and One Child\nAdd a Big: $25.00 = One Adult (17yrs and over)\nAdd a Little: $12.50 = One Child (under 16yrs)\n*Ticket fees include GST\nWebsite Back to Events Calendar
URL:https://okanaganfamilyfun.com/event/pete-the-cat-the-musical-kelowna/2026-05-24/
LOCATION:The Balsam School\, ​ 604 Cawston Avenue\, Kelowna\, V1Y 6Z4\, Canada
CATEGORIES:Family-Friendly,Kelowna,West Kelowna
ATTACH;FMTTYPE=image/png:https://okanaganfamilyfun.com/wp-content/uploads/2026/04/Pete-the-Cat-Event-Cal.png
END:VEVENT
END:VCALENDAR