BEGIN:VCALENDAR
VERSION:2.0
PRODID:-//Okanagan Family Fun - ECPv6.15.18//NONSGML v1.0//EN
CALSCALE:GREGORIAN
METHOD:PUBLISH
X-WR-CALNAME:Okanagan Family Fun
X-ORIGINAL-URL:https://okanaganfamilyfun.com
X-WR-CALDESC:Events for Okanagan Family Fun
REFRESH-INTERVAL;VALUE=DURATION:PT1H
X-Robots-Tag:noindex
X-PUBLISHED-TTL:PT1H
BEGIN:VTIMEZONE
TZID:America/Vancouver
BEGIN:DAYLIGHT
TZOFFSETFROM:-0800
TZOFFSETTO:-0700
TZNAME:PDT
DTSTART:20250309T100000
END:DAYLIGHT
BEGIN:STANDARD
TZOFFSETFROM:-0700
TZOFFSETTO:-0800
TZNAME:PST
DTSTART:20251102T090000
END:STANDARD
BEGIN:DAYLIGHT
TZOFFSETFROM:-0800
TZOFFSETTO:-0700
TZNAME:PDT
DTSTART:20260308T100000
END:DAYLIGHT
BEGIN:STANDARD
TZOFFSETFROM:-0700
TZOFFSETTO:-0800
TZNAME:PST
DTSTART:20261101T090000
END:STANDARD
BEGIN:DAYLIGHT
TZOFFSETFROM:-0800
TZOFFSETTO:-0700
TZNAME:PDT
DTSTART:20270314T100000
END:DAYLIGHT
BEGIN:STANDARD
TZOFFSETFROM:-0700
TZOFFSETTO:-0800
TZNAME:PST
DTSTART:20271107T090000
END:STANDARD
END:VTIMEZONE
BEGIN:VEVENT
DTSTART;TZID=America/Vancouver:20260430T100000
DTEND;TZID=America/Vancouver:20260430T113000
DTSTAMP:20260419T180611
CREATED:20251101T233203Z
LAST-MODIFIED:20260228T055237Z
UID:10003455-1777543200-1777548600@okanaganfamilyfun.com
SUMMARY:Mini Artists - Vernon Art Gallery
DESCRIPTION:Join the Vernon Art Gallery on the last Thursday of every month for their Mini Artists Series – an engaging\, hands-on art-making experience designed for children 5 and under. \nEach session invites children to explore a variety of art materials and creative processes that inspire creativity\, imagination\, and early learning. With safe\, non-toxic materials\, little artists get hands-on\, building fine motor skills and sensory awareness — all while having fun! \nRooted in our commitment to building community through the arts\, Mini Artists offers families a welcoming space to connect and create together. Make sure you dress for the mess as all are invited to join in on the fun! \nParents or guardians must accompany children for the duration of the session.\nRegister online to ensure space and materials. \nLocation: Vernon Public Art Gallery – 3228-31st Avenue\, Vernon\nTime: 10:00 to 11:30 am\nCost: By donation\nAges: Under 5 years\nParents or guardians must accompany children for the duration of the session.\nRegister online to ensure space and materials:\nWebsite Back to events Calendar
URL:https://okanaganfamilyfun.com/event/mini-artists-vernon-art-gallery-2/2026-04-30/
LOCATION:Vernon Public Art Gallery\, 3228-31st Avenue\, Vernon\, BC\, V1T 2H3\, Canada
CATEGORIES:Family-Friendly,Vernon
ATTACH;FMTTYPE=image/jpeg:https://okanaganfamilyfun.com/wp-content/uploads/2024/07/Mini-Artists-Vernon-Art-Gallery.jpg
END:VEVENT
BEGIN:VEVENT
DTSTART;TZID=America/Vancouver:20260528T100000
DTEND;TZID=America/Vancouver:20260528T113000
DTSTAMP:20260419T180611
CREATED:20251101T233203Z
LAST-MODIFIED:20260228T055237Z
UID:10003456-1779962400-1779967800@okanaganfamilyfun.com
SUMMARY:Mini Artists - Vernon Art Gallery
DESCRIPTION:Join the Vernon Art Gallery on the last Thursday of every month for their Mini Artists Series – an engaging\, hands-on art-making experience designed for children 5 and under. \nEach session invites children to explore a variety of art materials and creative processes that inspire creativity\, imagination\, and early learning. With safe\, non-toxic materials\, little artists get hands-on\, building fine motor skills and sensory awareness — all while having fun! \nRooted in our commitment to building community through the arts\, Mini Artists offers families a welcoming space to connect and create together. Make sure you dress for the mess as all are invited to join in on the fun! \nParents or guardians must accompany children for the duration of the session.\nRegister online to ensure space and materials. \nLocation: Vernon Public Art Gallery – 3228-31st Avenue\, Vernon\nTime: 10:00 to 11:30 am\nCost: By donation\nAges: Under 5 years\nParents or guardians must accompany children for the duration of the session.\nRegister online to ensure space and materials:\nWebsite Back to events Calendar
URL:https://okanaganfamilyfun.com/event/mini-artists-vernon-art-gallery-2/2026-05-28/
LOCATION:Vernon Public Art Gallery\, 3228-31st Avenue\, Vernon\, BC\, V1T 2H3\, Canada
CATEGORIES:Family-Friendly,Vernon
ATTACH;FMTTYPE=image/jpeg:https://okanaganfamilyfun.com/wp-content/uploads/2024/07/Mini-Artists-Vernon-Art-Gallery.jpg
END:VEVENT
END:VCALENDAR